BEGIN:VCALENDAR
VERSION:2.0
PRODID:-//pretix//pretix.eu//
BEGIN:VTIMEZONE
TZID:Europe/Berlin
BEGIN:STANDARD
DTSTART:20001029T040000
RRULE:FREQ=YEARLY;BYDAY=-1SU;BYMONTH=10
TZNAME:CET
TZOFFSETFROM:+0200
TZOFFSETTO:+0100
END:STANDARD
BEGIN:DAYLIGHT
DTSTART:20000326T030000
RRULE:FREQ=YEARLY;BYDAY=-1SU;BYMONTH=3
TZNAME:CEST
TZOFFSETFROM:+0100
TZOFFSETTO:+0200
END:DAYLIGHT
END:VTIMEZONE
BEGIN:VEVENT
UID:pretix-fgoe-seminare-gnszn-0@seminare.goeg.at
DTSTART;TZID=Europe/Berlin:20250630T100000
DTEND;TZID=Europe/Berlin:20250701T170000
DESCRIPTION:Tickets: https://seminare.goeg.at/gnszn/\nVeranstalter: Fonds G
 esundes Österreich
DTSTAMP:20260421T205345Z
LOCATION:Im Hinterhaus\, Schottenfeldgasse 12\, 1070 Wien (im Hof 12\, Tür
  6)
SUMMARY:"Gesundheitszirkelmoderation – BASIS"
END:VEVENT
END:VCALENDAR
